BEGIN:VCALENDAR
VERSION:2.0
PRODID:-//SHiFT College &amp; Young Adults - ECPv6.15.20//NONSGML v1.0//EN
CALSCALE:GREGORIAN
METHOD:PUBLISH
X-WR-CALNAME:SHiFT College &amp; Young Adults
X-ORIGINAL-URL:https://www.shiftya.org
X-WR-CALDESC:Events for SHiFT College &amp; Young Adults
REFRESH-INTERVAL;VALUE=DURATION:PT1H
X-Robots-Tag:noindex
X-PUBLISHED-TTL:PT1H
BEGIN:VTIMEZONE
TZID:UTC
BEGIN:STANDARD
TZOFFSETFROM:+0000
TZOFFSETTO:+0000
TZNAME:UTC
DTSTART:20250101T000000
END:STANDARD
END:VTIMEZONE
BEGIN:VEVENT
DTSTART;TZID=UTC:20260210T190000
DTEND;TZID=UTC:20260210T210000
DTSTAMP:20260423T214540
CREATED:20260107T184734Z
LAST-MODIFIED:20260204T231753Z
UID:25762-1770750000-1770757200@www.shiftya.org
SUMMARY:SHiFT Tuesday | Small Groups
DESCRIPTION:
URL:https://www.shiftya.org/event/shift-tuesday-12/
LOCATION:World Changers Church (WCCI Chapel)\, 2500 Burdett Road\, College Park\, GA\, 30349\, United States
CATEGORIES:SHiFT Weekly
ATTACH;FMTTYPE=image/jpeg:https://www.shiftya.org/wp-content/uploads/2026/01/SHiFT-Standard-screen.jpg
END:VEVENT
BEGIN:VEVENT
DTSTART;TZID=UTC:20260224T190000
DTEND;TZID=UTC:20260224T210000
DTSTAMP:20260423T214540
CREATED:20260107T184915Z
LAST-MODIFIED:20260204T231820Z
UID:25766-1771959600-1771966800@www.shiftya.org
SUMMARY:SHiFT Tuesday | The Collective
DESCRIPTION:
URL:https://www.shiftya.org/event/shift-tuesday-14/
LOCATION:World Changers Church (WCCI Chapel)\, 2500 Burdett Road\, College Park\, GA\, 30349\, United States
CATEGORIES:SHiFT Weekly
ATTACH;FMTTYPE=image/jpeg:https://www.shiftya.org/wp-content/uploads/2026/01/SHiFT-Standard-screen.jpg
END:VEVENT
END:VCALENDAR