BEGIN:VCALENDAR
VERSION:2.0
PRODID:-//SHiFT College &amp; Young Adults - ECPv6.15.20//NONSGML v1.0//EN
CALSCALE:GREGORIAN
METHOD:PUBLISH
X-WR-CALNAME:SHiFT College &amp; Young Adults
X-ORIGINAL-URL:https://www.shiftya.org
X-WR-CALDESC:Events for SHiFT College &amp; Young Adults
REFRESH-INTERVAL;VALUE=DURATION:PT1H
X-Robots-Tag:noindex
X-PUBLISHED-TTL:PT1H
BEGIN:VTIMEZONE
TZID:UTC
BEGIN:STANDARD
TZOFFSETFROM:+0000
TZOFFSETTO:+0000
TZNAME:UTC
DTSTART:20250101T000000
END:STANDARD
END:VTIMEZONE
BEGIN:VEVENT
DTSTART;TZID=UTC:20260428T190000
DTEND;TZID=UTC:20260428T210000
DTSTAMP:20260423T200543
CREATED:20260406T160456Z
LAST-MODIFIED:20260406T160456Z
UID:25987-1777402800-1777410000@www.shiftya.org
SUMMARY:SHiFT Tuesday | The Collective Night
DESCRIPTION:
URL:https://www.shiftya.org/event/shift-tuesday-the-collective-night-2/
LOCATION:World Changers Church (WCCI Chapel)\, 2500 Burdett Road\, College Park\, GA\, 30349\, United States
CATEGORIES:SHiFT Weekly
ATTACH;FMTTYPE=image/jpeg:https://www.shiftya.org/wp-content/uploads/2026/04/04062026-At-His-Feet-Screen-Graphic.jpg
END:VEVENT
END:VCALENDAR