BEGIN:VCALENDAR
VERSION:2.0
PRODID:-//SHiFT College &amp; Young Adults - ECPv6.15.20//NONSGML v1.0//EN
CALSCALE:GREGORIAN
METHOD:PUBLISH
X-ORIGINAL-URL:https://www.shiftya.org
X-WR-CALDESC:Events for SHiFT College &amp; Young Adults
REFRESH-INTERVAL;VALUE=DURATION:PT1H
X-Robots-Tag:noindex
X-PUBLISHED-TTL:PT1H
BEGIN:VTIMEZONE
TZID:UTC
BEGIN:STANDARD
TZOFFSETFROM:+0000
TZOFFSETTO:+0000
TZNAME:UTC
DTSTART:20240101T000000
END:STANDARD
END:VTIMEZONE
BEGIN:VEVENT
DTSTART;TZID=UTC:20251202T190000
DTEND;TZID=UTC:20251202T210000
DTSTAMP:20260423T201637
CREATED:20250625T202125Z
LAST-MODIFIED:20250625T202125Z
UID:25610-1764702000-1764709200@www.shiftya.org
SUMMARY:SHiFT Tuesday - Semester Finale
DESCRIPTION:
URL:https://www.shiftya.org/event/shift-tuesday-semester-finale/
LOCATION:World Changers Church (WCCI Chapel)\, 2500 Burdett Road\, College Park\, GA\, 30349\, United States
END:VEVENT
BEGIN:VEVENT
DTSTART;TZID=UTC:20251209T190000
DTEND;TZID=UTC:20251209T210000
DTSTAMP:20260423T201637
CREATED:20250625T202013Z
LAST-MODIFIED:20251204T213238Z
UID:25608-1765306800-1765314000@www.shiftya.org
SUMMARY:Ugly Sweater Christmas Party
DESCRIPTION:
URL:https://www.shiftya.org/event/ugly-sweater-christmas-party/
LOCATION:World Changers Church (Fellowship Hall)\, 2500 Burdett Road\, College Park\, GA\, 30349\, United States
CATEGORIES:SHiFT Fellowship
END:VEVENT
END:VCALENDAR