BEGIN:VCALENDAR
VERSION:2.0
PRODID:-//SHiFT College &amp; Young Adults - ECPv6.15.20//NONSGML v1.0//EN
CALSCALE:GREGORIAN
METHOD:PUBLISH
X-WR-CALNAME:SHiFT College &amp; Young Adults
X-ORIGINAL-URL:https://www.shiftya.org
X-WR-CALDESC:Events for SHiFT College &amp; Young Adults
REFRESH-INTERVAL;VALUE=DURATION:PT1H
X-Robots-Tag:noindex
X-PUBLISHED-TTL:PT1H
BEGIN:VTIMEZONE
TZID:UTC
BEGIN:STANDARD
TZOFFSETFROM:+0000
TZOFFSETTO:+0000
TZNAME:UTC
DTSTART:20240101T000000
END:STANDARD
END:VTIMEZONE
BEGIN:VEVENT
DTSTART;TZID=UTC:20251104T190000
DTEND;TZID=UTC:20251104T210000
DTSTAMP:20260423T214450
CREATED:20250625T200951Z
LAST-MODIFIED:20250625T200951Z
UID:25601-1762282800-1762290000@www.shiftya.org
SUMMARY:SHiFT Tuesday
DESCRIPTION:
URL:https://www.shiftya.org/event/shift-tuesday-9/
LOCATION:World Changers Church International\, 2500 Burdett Road\, College Park\, GA\, 30349\, United States
CATEGORIES:SHiFT Weekly
END:VEVENT
BEGIN:VEVENT
DTSTART;TZID=UTC:20251111T190000
DTEND;TZID=UTC:20251111T210000
DTSTAMP:20260423T214450
CREATED:20250625T201529Z
LAST-MODIFIED:20250625T201529Z
UID:25603-1762887600-1762894800@www.shiftya.org
SUMMARY:SHiFT Tuesday
DESCRIPTION:
URL:https://www.shiftya.org/event/shift-tuesday-10/
LOCATION:World Changers Church (WCCI Chapel)\, 2500 Burdett Road\, College Park\, GA\, 30349\, United States
CATEGORIES:SHiFT Weekly
END:VEVENT
BEGIN:VEVENT
DTSTART;TZID=UTC:20251118T190000
DTEND;TZID=UTC:20251118T210000
DTSTAMP:20260423T214450
CREATED:20250625T201801Z
LAST-MODIFIED:20251112T010110Z
UID:25606-1763492400-1763499600@www.shiftya.org
SUMMARY:2025 SHiFT Friendsgiving
DESCRIPTION:
URL:https://www.shiftya.org/event/2025-shift-friendsgiving/
LOCATION:World Changers Church (Fellowship Hall)\, 2500 Burdett Road\, College Park\, GA\, 30349\, United States
CATEGORIES:SHiFT Fellowship
END:VEVENT
END:VCALENDAR