BEGIN:VCALENDAR
VERSION:2.0
PRODID:-//SHiFT College &amp; Young Adults - ECPv6.15.20//NONSGML v1.0//EN
CALSCALE:GREGORIAN
METHOD:PUBLISH
X-ORIGINAL-URL:https://www.shiftya.org
X-WR-CALDESC:Events for SHiFT College &amp; Young Adults
REFRESH-INTERVAL;VALUE=DURATION:PT1H
X-Robots-Tag:noindex
X-PUBLISHED-TTL:PT1H
BEGIN:VTIMEZONE
TZID:UTC
BEGIN:STANDARD
TZOFFSETFROM:+0000
TZOFFSETTO:+0000
TZNAME:UTC
DTSTART:20240101T000000
END:STANDARD
END:VTIMEZONE
BEGIN:VEVENT
DTSTART;TZID=UTC:20250826T190000
DTEND;TZID=UTC:20250826T210000
DTSTAMP:20260423T213843
CREATED:20250623T203715Z
LAST-MODIFIED:20250803T113140Z
UID:25580-1756234800-1756242000@www.shiftya.org
SUMMARY:Fall KickOff: New Season...Same God!
DESCRIPTION:Fall Kick-Off is your official mid-year reset\, and we’re coming together for a night of authentic worship\, raw conversation\, and a message that meets you right where you are. \nWhether you’ve been riding high or barely hanging on\, this is the moment to reconnect—with God and with people who get it. \nBring a friend\, come ready\, and don’t miss it. \n			\n				RSVP Here
URL:https://www.shiftya.org/event/fall-kickoff-vision-night/
LOCATION:World Changers Church International\, 2500 Burdett Road\, College Park\, GA\, 30349\, United States
CATEGORIES:SHiFT Weekly
ATTACH;FMTTYPE=image/jpeg:https://www.shiftya.org/wp-content/uploads/2025/06/2025-Fall-KickOff-Eventbrite-Graphic.jpg
END:VEVENT
END:VCALENDAR