BEGIN:VCALENDAR
VERSION:2.0
PRODID:-//SHiFT College &amp; Young Adults - ECPv6.15.20//NONSGML v1.0//EN
CALSCALE:GREGORIAN
METHOD:PUBLISH
X-ORIGINAL-URL:https://www.shiftya.org
X-WR-CALDESC:Events for SHiFT College &amp; Young Adults
REFRESH-INTERVAL;VALUE=DURATION:PT1H
X-Robots-Tag:noindex
X-PUBLISHED-TTL:PT1H
BEGIN:VTIMEZONE
TZID:UTC
BEGIN:STANDARD
TZOFFSETFROM:+0000
TZOFFSETTO:+0000
TZNAME:UTC
DTSTART:20240101T000000
END:STANDARD
END:VTIMEZONE
BEGIN:VEVENT
DTSTART;TZID=UTC:20250729T190000
DTEND;TZID=UTC:20250729T213000
DTSTAMP:20260423T231744
CREATED:20250715T181900Z
LAST-MODIFIED:20250715T182122Z
UID:25620-1753815600-1753824600@www.shiftya.org
SUMMARY:SHiFT Squad Summer: Bowling Night Out
DESCRIPTION:SHiFT Squad Summer continues — and this time\, we’re hitting the lanes for a night of fun\, fellowship\, and friendly competition! Whether you’re a bowling pro or just showing up for the laughs and good vibes\, this is the perfect chance to connect with other young adults and be part of the SHiFT Squad. Let’s keep building real community — one connection (and strike) at a time. \nWe’ll announce the location soon\, but registration is open now. Bring a friend and come ready to roll! Questions? Email us at SHiFT@worldchangers.org. \nPlease Note: All attendees will be responsible for purchasing their own food\, beverages\, and game play. This RSVP is simply to let us know you're coming so we can plan accordingly. \n			\n				RSVP Here
URL:https://www.shiftya.org/event/shift-squad-summer-bowling-night-out/
LOCATION:World Changers Church International\, 2500 Burdett Road\, College Park\, GA\, 30349\, United States
CATEGORIES:SHiFT Squad
ATTACH;FMTTYPE=image/jpeg:https://www.shiftya.org/wp-content/uploads/2025/07/SHiFT-Bowling-Header.jpg
END:VEVENT
BEGIN:VEVENT
DTSTART;TZID=UTC:20250729T190000
DTEND;TZID=UTC:20250729T210000
DTSTAMP:20260423T231744
CREATED:20250623T203612Z
LAST-MODIFIED:20250623T203612Z
UID:25578-1753815600-1753822800@www.shiftya.org
SUMMARY:SHiFT Squad Tuesday
DESCRIPTION:
URL:https://www.shiftya.org/event/shift-squad-tuesday-2/
LOCATION:World Changers Church International\, 2500 Burdett Road\, College Park\, GA\, 30349\, United States
CATEGORIES:SHiFT Squad
END:VEVENT
BEGIN:VEVENT
DTSTART;TZID=UTC:20250715T190000
DTEND;TZID=UTC:20250715T210000
DTSTAMP:20260423T231744
CREATED:20250623T203503Z
LAST-MODIFIED:20250623T203503Z
UID:25576-1752606000-1752613200@www.shiftya.org
SUMMARY:SHiFT Squad Tuesday
DESCRIPTION:
URL:https://www.shiftya.org/event/shift-squad-tuesday/
LOCATION:World Changers Church International\, 2500 Burdett Road\, College Park\, GA\, 30349\, United States
CATEGORIES:SHiFT Squad
END:VEVENT
BEGIN:VEVENT
DTSTART;TZID=UTC:20250624T190000
DTEND;TZID=UTC:20250624T210000
DTSTAMP:20260423T231744
CREATED:20250617T173735Z
LAST-MODIFIED:20250617T174626Z
UID:25555-1750791600-1750798800@www.shiftya.org
SUMMARY:SHiFT Squad Meet: Top Golf
DESCRIPTION:We’re taking a break from campus and making space to connect\, laugh\, and build community at Top Golf! As part of our SHiFT Squad Summer series\, this event is a great way to hang out with familiar faces (and meet some new ones) in a fun\, relaxed environment. \nPlease Note: All attendees will be responsible for purchasing their own food\, beverages\, and game play. This RSVP is simply to let us know you're coming so we can plan accordingly. \n			\n				RSVP Here
URL:https://www.shiftya.org/event/shift-squad-meet-top-golf/
LOCATION:Top Golf Atlanta (Midtown)\, 1600 Ellsworth Industrial Blvd NW\, Atlanta\, GA\, 30318\, United States
CATEGORIES:SHiFT Squad
ATTACH;FMTTYPE=image/jpeg:https://www.shiftya.org/wp-content/uploads/2025/06/SHiFT-Top-Golf-Thumbnail.jpg
END:VEVENT
END:VCALENDAR